BEGIN:VCALENDAR
VERSION:2.0
PRODID:-//Laborers Local 309 - ECPv6.15.20//NONSGML v1.0//EN
CALSCALE:GREGORIAN
METHOD:PUBLISH
X-WR-CALNAME:Laborers Local 309
X-ORIGINAL-URL:https://laborers309.org
X-WR-CALDESC:Events for Laborers Local 309
REFRESH-INTERVAL;VALUE=DURATION:PT1H
X-Robots-Tag:noindex
X-PUBLISHED-TTL:PT1H
BEGIN:VTIMEZONE
TZID:America/Chicago
BEGIN:DAYLIGHT
TZOFFSETFROM:-0600
TZOFFSETTO:-0500
TZNAME:CDT
DTSTART:20250309T080000
END:DAYLIGHT
BEGIN:STANDARD
TZOFFSETFROM:-0500
TZOFFSETTO:-0600
TZNAME:CST
DTSTART:20251102T070000
END:STANDARD
BEGIN:DAYLIGHT
TZOFFSETFROM:-0600
TZOFFSETTO:-0500
TZNAME:CDT
DTSTART:20260308T080000
END:DAYLIGHT
BEGIN:STANDARD
TZOFFSETFROM:-0500
TZOFFSETTO:-0600
TZNAME:CST
DTSTART:20261101T070000
END:STANDARD
BEGIN:DAYLIGHT
TZOFFSETFROM:-0600
TZOFFSETTO:-0500
TZNAME:CDT
DTSTART:20270314T080000
END:DAYLIGHT
BEGIN:STANDARD
TZOFFSETFROM:-0500
TZOFFSETTO:-0600
TZNAME:CST
DTSTART:20271107T070000
END:STANDARD
END:VTIMEZONE
BEGIN:VEVENT
DTSTART;TZID=America/Chicago:20260210T190000
DTEND;TZID=America/Chicago:20260210T200000
DTSTAMP:20260423T135308
CREATED:20250825T214202Z
LAST-MODIFIED:20251203T153541Z
UID:10000073-1770750000-1770753600@laborers309.org
SUMMARY:Laborers 309 Monthly Meeting
DESCRIPTION:
URL:https://laborers309.org/event/laborers-309-monthly-meeting/2026-02-10/
LOCATION:Laborers 309 Union Hall\, 2835 7th Ave.\, Rock Island\, IL\, 61201\, United States
ATTACH;FMTTYPE=image/png:https://laborers309.org/wp-content/uploads/2025/08/309-Hammers.png
END:VEVENT
BEGIN:VEVENT
DTSTART;TZID=America/Chicago:20260220T100000
DTEND;TZID=America/Chicago:20260220T123000
DTSTAMP:20260423T135308
CREATED:20250825T214452Z
LAST-MODIFIED:20250911T224115Z
UID:10000133-1771581600-1771590600@laborers309.org
SUMMARY:Retirees Meeting
DESCRIPTION:
URL:https://laborers309.org/event/retirees-meeting/2026-02-20/
LOCATION:Laborers 309 Union Hall\, 2835 7th Ave.\, Rock Island\, IL\, 61201\, United States
END:VEVENT
BEGIN:VEVENT
DTSTART;TZID=America/Chicago:20260223T080000
DTEND;TZID=America/Chicago:20260223T170000
DTSTAMP:20260423T135308
CREATED:20251229T184635Z
LAST-MODIFIED:20251229T185107Z
UID:10000227-1771833600-1771866000@laborers309.org
SUMMARY:Skid-Steer Operations / Lift Training
DESCRIPTION:Call 309-786-5479 and sign up for classes before they fill up.
URL:https://laborers309.org/event/skid-steer-operations-lift-training/
LOCATION:Laborers 309 Union Hall\, 2835 7th Ave.\, Rock Island\, IL\, 61201\, United States
END:VEVENT
BEGIN:VEVENT
DTSTART;VALUE=DATE:20260224
DTEND;VALUE=DATE:20260226
DTSTAMP:20260423T135308
CREATED:20251229T184854Z
LAST-MODIFIED:20251229T184854Z
UID:10000228-1771891200-1772063999@laborers309.org
SUMMARY:10 Hour OSHA
DESCRIPTION:Tues: 8:00am – 4:30pm\nWed: 8:00am – 11:00am \nCall 309-786-5479 and sign up for classes before they fill up.
URL:https://laborers309.org/event/10-hour-osha/
LOCATION:Laborers 309 Union Hall\, 2835 7th Ave.\, Rock Island\, IL\, 61201\, United States
END:VEVENT
BEGIN:VEVENT
DTSTART;TZID=America/Chicago:20260225T120000
DTEND;TZID=America/Chicago:20260225T150000
DTSTAMP:20260423T135308
CREATED:20251229T184935Z
LAST-MODIFIED:20251229T184935Z
UID:10000229-1772020800-1772031600@laborers309.org
SUMMARY:First Aid/CPR/AED
DESCRIPTION:Call 309-786-5479 and sign up for classes before they fill up.
URL:https://laborers309.org/event/first-aid-cpr-aed-3/
LOCATION:Laborers 309 Union Hall\, 2835 7th Ave.\, Rock Island\, IL\, 61201\, United States
END:VEVENT
BEGIN:VEVENT
DTSTART;TZID=America/Chicago:20260226T080000
DTEND;TZID=America/Chicago:20260226T120000
DTSTAMP:20260423T135308
CREATED:20251229T185011Z
LAST-MODIFIED:20260217T200351Z
UID:10000230-1772092800-1772107200@laborers309.org
SUMMARY:4 Hour Flagger - Cancelled
DESCRIPTION:
URL:https://laborers309.org/event/4-hour-flagger-3/
END:VEVENT
BEGIN:VEVENT
DTSTART;TZID=America/Chicago:20260226T130000
DTEND;TZID=America/Chicago:20260226T170000
DTSTAMP:20260423T135308
CREATED:20251229T185046Z
LAST-MODIFIED:20260217T200434Z
UID:10000231-1772110800-1772125200@laborers309.org
SUMMARY:4 Hour Flagger  - Cancelled
DESCRIPTION:
URL:https://laborers309.org/event/4-hour-flagger-4/
END:VEVENT
END:VCALENDAR