BEGIN:VCALENDAR
VERSION:2.0
PRODID:-//Laborers Local 309 - ECPv6.15.20//NONSGML v1.0//EN
CALSCALE:GREGORIAN
METHOD:PUBLISH
X-ORIGINAL-URL:https://laborers309.org
X-WR-CALDESC:Events for Laborers Local 309
REFRESH-INTERVAL;VALUE=DURATION:PT1H
X-Robots-Tag:noindex
X-PUBLISHED-TTL:PT1H
BEGIN:VTIMEZONE
TZID:America/Chicago
BEGIN:DAYLIGHT
TZOFFSETFROM:-0600
TZOFFSETTO:-0500
TZNAME:CDT
DTSTART:20270314T080000
END:DAYLIGHT
BEGIN:STANDARD
TZOFFSETFROM:-0500
TZOFFSETTO:-0600
TZNAME:CST
DTSTART:20271107T070000
END:STANDARD
BEGIN:DAYLIGHT
TZOFFSETFROM:-0600
TZOFFSETTO:-0500
TZNAME:CDT
DTSTART:20280312T080000
END:DAYLIGHT
BEGIN:STANDARD
TZOFFSETFROM:-0500
TZOFFSETTO:-0600
TZNAME:CST
DTSTART:20281105T070000
END:STANDARD
BEGIN:DAYLIGHT
TZOFFSETFROM:-0600
TZOFFSETTO:-0500
TZNAME:CDT
DTSTART:20290311T080000
END:DAYLIGHT
BEGIN:STANDARD
TZOFFSETFROM:-0500
TZOFFSETTO:-0600
TZNAME:CST
DTSTART:20291104T070000
END:STANDARD
BEGIN:DAYLIGHT
TZOFFSETFROM:-0600
TZOFFSETTO:-0500
TZNAME:CDT
DTSTART:20300310T080000
END:DAYLIGHT
BEGIN:STANDARD
TZOFFSETFROM:-0500
TZOFFSETTO:-0600
TZNAME:CST
DTSTART:20301103T070000
END:STANDARD
END:VTIMEZONE
BEGIN:VEVENT
DTSTART;VALUE=DATE:20280904
DTEND;VALUE=DATE:20280905
DTSTAMP:20260423T210539
CREATED:20250821T165359Z
LAST-MODIFIED:20250826T131142Z
UID:10000008-1851638400-1851724799@laborers309.org
SUMMARY:Labor Day
DESCRIPTION:
URL:https://laborers309.org/event/labor-day/2028-09-04/
LOCATION:IL
END:VEVENT
BEGIN:VEVENT
DTSTART;TZID=America/Chicago:20280912T190000
DTEND;TZID=America/Chicago:20280912T200000
DTSTAMP:20260423T210539
CREATED:20250825T214202Z
LAST-MODIFIED:20251203T153541Z
UID:10000104-1852398000-1852401600@laborers309.org
SUMMARY:Laborers 309 Monthly Meeting
DESCRIPTION:
URL:https://laborers309.org/event/laborers-309-monthly-meeting/2028-09-12/
LOCATION:Laborers 309 Union Hall\, 2835 7th Ave.\, Rock Island\, IL\, 61201\, United States
ATTACH;FMTTYPE=image/png:https://laborers309.org/wp-content/uploads/2025/08/309-Hammers.png
END:VEVENT
BEGIN:VEVENT
DTSTART;TZID=America/Chicago:20280915T100000
DTEND;TZID=America/Chicago:20280915T123000
DTSTAMP:20260423T210539
CREATED:20250825T214452Z
LAST-MODIFIED:20250911T224115Z
UID:10000164-1852624800-1852633800@laborers309.org
SUMMARY:Retirees Meeting
DESCRIPTION:
URL:https://laborers309.org/event/retirees-meeting/2028-09-15/
LOCATION:Laborers 309 Union Hall\, 2835 7th Ave.\, Rock Island\, IL\, 61201\, United States
END:VEVENT
BEGIN:VEVENT
DTSTART;TZID=America/Chicago:20281010T190000
DTEND;TZID=America/Chicago:20281010T200000
DTSTAMP:20260423T210539
CREATED:20250825T214202Z
LAST-MODIFIED:20251203T153541Z
UID:10000105-1854817200-1854820800@laborers309.org
SUMMARY:Laborers 309 Monthly Meeting
DESCRIPTION:
URL:https://laborers309.org/event/laborers-309-monthly-meeting/2028-10-10/
LOCATION:Laborers 309 Union Hall\, 2835 7th Ave.\, Rock Island\, IL\, 61201\, United States
ATTACH;FMTTYPE=image/png:https://laborers309.org/wp-content/uploads/2025/08/309-Hammers.png
END:VEVENT
BEGIN:VEVENT
DTSTART;TZID=America/Chicago:20281020T100000
DTEND;TZID=America/Chicago:20281020T123000
DTSTAMP:20260423T210539
CREATED:20250825T214452Z
LAST-MODIFIED:20250911T224115Z
UID:10000165-1855648800-1855657800@laborers309.org
SUMMARY:Retirees Meeting
DESCRIPTION:
URL:https://laborers309.org/event/retirees-meeting/2028-10-20/
LOCATION:Laborers 309 Union Hall\, 2835 7th Ave.\, Rock Island\, IL\, 61201\, United States
END:VEVENT
BEGIN:VEVENT
DTSTART;VALUE=DATE:20281111
DTEND;VALUE=DATE:20281112
DTSTAMP:20260423T210539
CREATED:20250911T230021Z
LAST-MODIFIED:20250911T230021Z
UID:10000196-1857513600-1857599999@laborers309.org
SUMMARY:Veterans Day
DESCRIPTION:
URL:https://laborers309.org/event/veterans-day/2028-11-11/
LOCATION:IL
END:VEVENT
BEGIN:VEVENT
DTSTART;TZID=America/Chicago:20281114T190000
DTEND;TZID=America/Chicago:20281114T200000
DTSTAMP:20260423T210539
CREATED:20250825T214202Z
LAST-MODIFIED:20251203T153541Z
UID:10000106-1857841200-1857844800@laborers309.org
SUMMARY:Laborers 309 Monthly Meeting
DESCRIPTION:
URL:https://laborers309.org/event/laborers-309-monthly-meeting/2028-11-14/
LOCATION:Laborers 309 Union Hall\, 2835 7th Ave.\, Rock Island\, IL\, 61201\, United States
ATTACH;FMTTYPE=image/png:https://laborers309.org/wp-content/uploads/2025/08/309-Hammers.png
END:VEVENT
BEGIN:VEVENT
DTSTART;TZID=America/Chicago:20281117T100000
DTEND;TZID=America/Chicago:20281117T123000
DTSTAMP:20260423T210539
CREATED:20250825T214452Z
LAST-MODIFIED:20250911T224115Z
UID:10000166-1858068000-1858077000@laborers309.org
SUMMARY:Retirees Meeting
DESCRIPTION:
URL:https://laborers309.org/event/retirees-meeting/2028-11-17/
LOCATION:Laborers 309 Union Hall\, 2835 7th Ave.\, Rock Island\, IL\, 61201\, United States
END:VEVENT
BEGIN:VEVENT
DTSTART;VALUE=DATE:20281123
DTEND;VALUE=DATE:20281124
DTSTAMP:20260423T210539
CREATED:20250911T224151Z
LAST-MODIFIED:20250911T224151Z
UID:10000191-1858550400-1858636799@laborers309.org
SUMMARY:Thanksgiving
DESCRIPTION:Hall is closed.
URL:https://laborers309.org/event/thanksgiving/2028-11-23/
LOCATION:IL
END:VEVENT
BEGIN:VEVENT
DTSTART;TZID=America/Chicago:20281212T190000
DTEND;TZID=America/Chicago:20281212T200000
DTSTAMP:20260423T210539
CREATED:20250825T214202Z
LAST-MODIFIED:20251203T153541Z
UID:10000107-1860260400-1860264000@laborers309.org
SUMMARY:Laborers 309 Monthly Meeting
DESCRIPTION:
URL:https://laborers309.org/event/laborers-309-monthly-meeting/2028-12-12/
LOCATION:Laborers 309 Union Hall\, 2835 7th Ave.\, Rock Island\, IL\, 61201\, United States
ATTACH;FMTTYPE=image/png:https://laborers309.org/wp-content/uploads/2025/08/309-Hammers.png
END:VEVENT
BEGIN:VEVENT
DTSTART;TZID=America/Chicago:20281215T100000
DTEND;TZID=America/Chicago:20281215T123000
DTSTAMP:20260423T210539
CREATED:20250825T214452Z
LAST-MODIFIED:20250911T224115Z
UID:10000167-1860487200-1860496200@laborers309.org
SUMMARY:Retirees Meeting
DESCRIPTION:
URL:https://laborers309.org/event/retirees-meeting/2028-12-15/
LOCATION:Laborers 309 Union Hall\, 2835 7th Ave.\, Rock Island\, IL\, 61201\, United States
END:VEVENT
BEGIN:VEVENT
DTSTART;VALUE=DATE:20281225
DTEND;VALUE=DATE:20281226
DTSTAMP:20260423T210539
CREATED:20251124T222017Z
LAST-MODIFIED:20251124T222128Z
UID:10000201-1861315200-1861401599@laborers309.org
SUMMARY:Christmas
DESCRIPTION:
URL:https://laborers309.org/event/christmas/2028-12-25/
LOCATION:IL
END:VEVENT
BEGIN:VEVENT
DTSTART;VALUE=DATE:20290101
DTEND;VALUE=DATE:20290102
DTSTAMP:20260423T210539
CREATED:20251124T222102Z
LAST-MODIFIED:20251124T222102Z
UID:10000206-1861920000-1862006399@laborers309.org
SUMMARY:New Year's Day
DESCRIPTION:
URL:https://laborers309.org/event/new-years-day/2029-01-01/
LOCATION:IL
END:VEVENT
BEGIN:VEVENT
DTSTART;TZID=America/Chicago:20290109T190000
DTEND;TZID=America/Chicago:20290109T200000
DTSTAMP:20260423T210539
CREATED:20250825T214202Z
LAST-MODIFIED:20251203T153541Z
UID:10000108-1862679600-1862683200@laborers309.org
SUMMARY:Laborers 309 Monthly Meeting
DESCRIPTION:
URL:https://laborers309.org/event/laborers-309-monthly-meeting/2029-01-09/
LOCATION:Laborers 309 Union Hall\, 2835 7th Ave.\, Rock Island\, IL\, 61201\, United States
ATTACH;FMTTYPE=image/png:https://laborers309.org/wp-content/uploads/2025/08/309-Hammers.png
END:VEVENT
BEGIN:VEVENT
DTSTART;TZID=America/Chicago:20290119T100000
DTEND;TZID=America/Chicago:20290119T123000
DTSTAMP:20260423T210539
CREATED:20250825T214452Z
LAST-MODIFIED:20250911T224115Z
UID:10000168-1863511200-1863520200@laborers309.org
SUMMARY:Retirees Meeting
DESCRIPTION:
URL:https://laborers309.org/event/retirees-meeting/2029-01-19/
LOCATION:Laborers 309 Union Hall\, 2835 7th Ave.\, Rock Island\, IL\, 61201\, United States
END:VEVENT
BEGIN:VEVENT
DTSTART;TZID=America/Chicago:20290213T190000
DTEND;TZID=America/Chicago:20290213T200000
DTSTAMP:20260423T210539
CREATED:20250825T214202Z
LAST-MODIFIED:20251203T153541Z
UID:10000109-1865703600-1865707200@laborers309.org
SUMMARY:Laborers 309 Monthly Meeting
DESCRIPTION:
URL:https://laborers309.org/event/laborers-309-monthly-meeting/2029-02-13/
LOCATION:Laborers 309 Union Hall\, 2835 7th Ave.\, Rock Island\, IL\, 61201\, United States
ATTACH;FMTTYPE=image/png:https://laborers309.org/wp-content/uploads/2025/08/309-Hammers.png
END:VEVENT
BEGIN:VEVENT
DTSTART;TZID=America/Chicago:20290216T100000
DTEND;TZID=America/Chicago:20290216T123000
DTSTAMP:20260423T210539
CREATED:20250825T214452Z
LAST-MODIFIED:20250911T224115Z
UID:10000169-1865930400-1865939400@laborers309.org
SUMMARY:Retirees Meeting
DESCRIPTION:
URL:https://laborers309.org/event/retirees-meeting/2029-02-16/
LOCATION:Laborers 309 Union Hall\, 2835 7th Ave.\, Rock Island\, IL\, 61201\, United States
END:VEVENT
BEGIN:VEVENT
DTSTART;TZID=America/Chicago:20290313T190000
DTEND;TZID=America/Chicago:20290313T200000
DTSTAMP:20260423T210539
CREATED:20250825T214202Z
LAST-MODIFIED:20251203T153541Z
UID:10000110-1868122800-1868126400@laborers309.org
SUMMARY:Laborers 309 Monthly Meeting
DESCRIPTION:
URL:https://laborers309.org/event/laborers-309-monthly-meeting/2029-03-13/
LOCATION:Laborers 309 Union Hall\, 2835 7th Ave.\, Rock Island\, IL\, 61201\, United States
ATTACH;FMTTYPE=image/png:https://laborers309.org/wp-content/uploads/2025/08/309-Hammers.png
END:VEVENT
BEGIN:VEVENT
DTSTART;TZID=America/Chicago:20290316T100000
DTEND;TZID=America/Chicago:20290316T123000
DTSTAMP:20260423T210539
CREATED:20250825T214452Z
LAST-MODIFIED:20250911T224115Z
UID:10000170-1868349600-1868358600@laborers309.org
SUMMARY:Retirees Meeting
DESCRIPTION:
URL:https://laborers309.org/event/retirees-meeting/2029-03-16/
LOCATION:Laborers 309 Union Hall\, 2835 7th Ave.\, Rock Island\, IL\, 61201\, United States
END:VEVENT
BEGIN:VEVENT
DTSTART;TZID=America/Chicago:20290410T190000
DTEND;TZID=America/Chicago:20290410T200000
DTSTAMP:20260423T210539
CREATED:20250825T214202Z
LAST-MODIFIED:20251203T153541Z
UID:10000111-1870542000-1870545600@laborers309.org
SUMMARY:Laborers 309 Monthly Meeting
DESCRIPTION:
URL:https://laborers309.org/event/laborers-309-monthly-meeting/2029-04-10/
LOCATION:Laborers 309 Union Hall\, 2835 7th Ave.\, Rock Island\, IL\, 61201\, United States
ATTACH;FMTTYPE=image/png:https://laborers309.org/wp-content/uploads/2025/08/309-Hammers.png
END:VEVENT
BEGIN:VEVENT
DTSTART;TZID=America/Chicago:20290420T100000
DTEND;TZID=America/Chicago:20290420T123000
DTSTAMP:20260423T210539
CREATED:20250825T214452Z
LAST-MODIFIED:20250911T224115Z
UID:10000171-1871373600-1871382600@laborers309.org
SUMMARY:Retirees Meeting
DESCRIPTION:
URL:https://laborers309.org/event/retirees-meeting/2029-04-20/
LOCATION:Laborers 309 Union Hall\, 2835 7th Ave.\, Rock Island\, IL\, 61201\, United States
END:VEVENT
BEGIN:VEVENT
DTSTART;TZID=America/Chicago:20290508T190000
DTEND;TZID=America/Chicago:20290508T200000
DTSTAMP:20260423T210539
CREATED:20250825T214202Z
LAST-MODIFIED:20251203T153541Z
UID:10000112-1872961200-1872964800@laborers309.org
SUMMARY:Laborers 309 Monthly Meeting
DESCRIPTION:
URL:https://laborers309.org/event/laborers-309-monthly-meeting/2029-05-08/
LOCATION:Laborers 309 Union Hall\, 2835 7th Ave.\, Rock Island\, IL\, 61201\, United States
ATTACH;FMTTYPE=image/png:https://laborers309.org/wp-content/uploads/2025/08/309-Hammers.png
END:VEVENT
BEGIN:VEVENT
DTSTART;TZID=America/Chicago:20290518T100000
DTEND;TZID=America/Chicago:20290518T123000
DTSTAMP:20260423T210539
CREATED:20250825T214452Z
LAST-MODIFIED:20250911T224115Z
UID:10000172-1873792800-1873801800@laborers309.org
SUMMARY:Retirees Meeting
DESCRIPTION:
URL:https://laborers309.org/event/retirees-meeting/2029-05-18/
LOCATION:Laborers 309 Union Hall\, 2835 7th Ave.\, Rock Island\, IL\, 61201\, United States
END:VEVENT
BEGIN:VEVENT
DTSTART;VALUE=DATE:20290528
DTEND;VALUE=DATE:20290529
DTSTAMP:20260423T210539
CREATED:20251124T222245Z
LAST-MODIFIED:20251124T222245Z
UID:10000216-1874620800-1874707199@laborers309.org
SUMMARY:Memorial Day
DESCRIPTION:
URL:https://laborers309.org/event/memorial-day/2029-05-28/
LOCATION:IL
END:VEVENT
BEGIN:VEVENT
DTSTART;TZID=America/Chicago:20290612T190000
DTEND;TZID=America/Chicago:20290612T200000
DTSTAMP:20260423T210539
CREATED:20250825T214202Z
LAST-MODIFIED:20251203T153541Z
UID:10000113-1875985200-1875988800@laborers309.org
SUMMARY:Laborers 309 Monthly Meeting
DESCRIPTION:
URL:https://laborers309.org/event/laborers-309-monthly-meeting/2029-06-12/
LOCATION:Laborers 309 Union Hall\, 2835 7th Ave.\, Rock Island\, IL\, 61201\, United States
ATTACH;FMTTYPE=image/png:https://laborers309.org/wp-content/uploads/2025/08/309-Hammers.png
END:VEVENT
BEGIN:VEVENT
DTSTART;TZID=America/Chicago:20290615T100000
DTEND;TZID=America/Chicago:20290615T123000
DTSTAMP:20260423T210539
CREATED:20250825T214452Z
LAST-MODIFIED:20250911T224115Z
UID:10000173-1876212000-1876221000@laborers309.org
SUMMARY:Retirees Meeting
DESCRIPTION:
URL:https://laborers309.org/event/retirees-meeting/2029-06-15/
LOCATION:Laborers 309 Union Hall\, 2835 7th Ave.\, Rock Island\, IL\, 61201\, United States
END:VEVENT
BEGIN:VEVENT
DTSTART;VALUE=DATE:20290704
DTEND;VALUE=DATE:20290705
DTSTAMP:20260423T210539
CREATED:20251124T222203Z
LAST-MODIFIED:20251124T222203Z
UID:10000211-1877817600-1877903999@laborers309.org
SUMMARY:Independence Day
DESCRIPTION:
URL:https://laborers309.org/event/independence-day/2029-07-04/
LOCATION:IL
END:VEVENT
BEGIN:VEVENT
DTSTART;TZID=America/Chicago:20290710T190000
DTEND;TZID=America/Chicago:20290710T200000
DTSTAMP:20260423T210539
CREATED:20250825T214202Z
LAST-MODIFIED:20251203T153541Z
UID:10000114-1878404400-1878408000@laborers309.org
SUMMARY:Laborers 309 Monthly Meeting
DESCRIPTION:
URL:https://laborers309.org/event/laborers-309-monthly-meeting/2029-07-10/
LOCATION:Laborers 309 Union Hall\, 2835 7th Ave.\, Rock Island\, IL\, 61201\, United States
ATTACH;FMTTYPE=image/png:https://laborers309.org/wp-content/uploads/2025/08/309-Hammers.png
END:VEVENT
BEGIN:VEVENT
DTSTART;TZID=America/Chicago:20290720T100000
DTEND;TZID=America/Chicago:20290720T123000
DTSTAMP:20260423T210539
CREATED:20250825T214452Z
LAST-MODIFIED:20250911T224115Z
UID:10000174-1879236000-1879245000@laborers309.org
SUMMARY:Retirees Meeting
DESCRIPTION:
URL:https://laborers309.org/event/retirees-meeting/2029-07-20/
LOCATION:Laborers 309 Union Hall\, 2835 7th Ave.\, Rock Island\, IL\, 61201\, United States
END:VEVENT
BEGIN:VEVENT
DTSTART;TZID=America/Chicago:20290814T190000
DTEND;TZID=America/Chicago:20290814T200000
DTSTAMP:20260423T210539
CREATED:20250825T214202Z
LAST-MODIFIED:20251203T153541Z
UID:10000115-1881428400-1881432000@laborers309.org
SUMMARY:Laborers 309 Monthly Meeting
DESCRIPTION:
URL:https://laborers309.org/event/laborers-309-monthly-meeting/2029-08-14/
LOCATION:Laborers 309 Union Hall\, 2835 7th Ave.\, Rock Island\, IL\, 61201\, United States
ATTACH;FMTTYPE=image/png:https://laborers309.org/wp-content/uploads/2025/08/309-Hammers.png
END:VEVENT
END:VCALENDAR