BEGIN:VCALENDAR
VERSION:2.0
PRODID:-//Laborers Local 309 - ECPv6.15.20//NONSGML v1.0//EN
CALSCALE:GREGORIAN
METHOD:PUBLISH
X-ORIGINAL-URL:https://laborers309.org
X-WR-CALDESC:Events for Laborers Local 309
REFRESH-INTERVAL;VALUE=DURATION:PT1H
X-Robots-Tag:noindex
X-PUBLISHED-TTL:PT1H
BEGIN:VTIMEZONE
TZID:America/Chicago
BEGIN:DAYLIGHT
TZOFFSETFROM:-0600
TZOFFSETTO:-0500
TZNAME:CDT
DTSTART:20260308T080000
END:DAYLIGHT
BEGIN:STANDARD
TZOFFSETFROM:-0500
TZOFFSETTO:-0600
TZNAME:CST
DTSTART:20261101T070000
END:STANDARD
BEGIN:DAYLIGHT
TZOFFSETFROM:-0600
TZOFFSETTO:-0500
TZNAME:CDT
DTSTART:20270314T080000
END:DAYLIGHT
BEGIN:STANDARD
TZOFFSETFROM:-0500
TZOFFSETTO:-0600
TZNAME:CST
DTSTART:20271107T070000
END:STANDARD
BEGIN:DAYLIGHT
TZOFFSETFROM:-0600
TZOFFSETTO:-0500
TZNAME:CDT
DTSTART:20280312T080000
END:DAYLIGHT
BEGIN:STANDARD
TZOFFSETFROM:-0500
TZOFFSETTO:-0600
TZNAME:CST
DTSTART:20281105T070000
END:STANDARD
BEGIN:DAYLIGHT
TZOFFSETFROM:-0600
TZOFFSETTO:-0500
TZNAME:CDT
DTSTART:20290311T080000
END:DAYLIGHT
BEGIN:STANDARD
TZOFFSETFROM:-0500
TZOFFSETTO:-0600
TZNAME:CST
DTSTART:20291104T070000
END:STANDARD
END:VTIMEZONE
BEGIN:VEVENT
DTSTART;TZID=America/Chicago:20271109T190000
DTEND;TZID=America/Chicago:20271109T200000
DTSTAMP:20260425T102215
CREATED:20250825T214202Z
LAST-MODIFIED:20251203T153541Z
UID:10000094-1825786800-1825790400@laborers309.org
SUMMARY:Laborers 309 Monthly Meeting
DESCRIPTION:
URL:https://laborers309.org/event/laborers-309-monthly-meeting/2027-11-09/
LOCATION:Laborers 309 Union Hall\, 2835 7th Ave.\, Rock Island\, IL\, 61201\, United States
ATTACH;FMTTYPE=image/png:https://laborers309.org/wp-content/uploads/2025/08/309-Hammers.png
END:VEVENT
BEGIN:VEVENT
DTSTART;VALUE=DATE:20271111
DTEND;VALUE=DATE:20271112
DTSTAMP:20260425T102215
CREATED:20250911T230021Z
LAST-MODIFIED:20250911T230021Z
UID:10000195-1825891200-1825977599@laborers309.org
SUMMARY:Veterans Day
DESCRIPTION:
URL:https://laborers309.org/event/veterans-day/2027-11-11/
LOCATION:IL
END:VEVENT
BEGIN:VEVENT
DTSTART;TZID=America/Chicago:20271119T100000
DTEND;TZID=America/Chicago:20271119T123000
DTSTAMP:20260425T102215
CREATED:20250825T214452Z
LAST-MODIFIED:20250911T224115Z
UID:10000154-1826618400-1826627400@laborers309.org
SUMMARY:Retirees Meeting
DESCRIPTION:
URL:https://laborers309.org/event/retirees-meeting/2027-11-19/
LOCATION:Laborers 309 Union Hall\, 2835 7th Ave.\, Rock Island\, IL\, 61201\, United States
END:VEVENT
BEGIN:VEVENT
DTSTART;VALUE=DATE:20271125
DTEND;VALUE=DATE:20271126
DTSTAMP:20260425T102215
CREATED:20250911T224151Z
LAST-MODIFIED:20250911T224151Z
UID:10000190-1827100800-1827187199@laborers309.org
SUMMARY:Thanksgiving
DESCRIPTION:Hall is closed.
URL:https://laborers309.org/event/thanksgiving/2027-11-25/
LOCATION:IL
END:VEVENT
BEGIN:VEVENT
DTSTART;TZID=America/Chicago:20271214T190000
DTEND;TZID=America/Chicago:20271214T200000
DTSTAMP:20260425T102215
CREATED:20250825T214202Z
LAST-MODIFIED:20251203T153541Z
UID:10000095-1828810800-1828814400@laborers309.org
SUMMARY:Laborers 309 Monthly Meeting
DESCRIPTION:
URL:https://laborers309.org/event/laborers-309-monthly-meeting/2027-12-14/
LOCATION:Laborers 309 Union Hall\, 2835 7th Ave.\, Rock Island\, IL\, 61201\, United States
ATTACH;FMTTYPE=image/png:https://laborers309.org/wp-content/uploads/2025/08/309-Hammers.png
END:VEVENT
BEGIN:VEVENT
DTSTART;TZID=America/Chicago:20271217T100000
DTEND;TZID=America/Chicago:20271217T123000
DTSTAMP:20260425T102215
CREATED:20250825T214452Z
LAST-MODIFIED:20250911T224115Z
UID:10000155-1829037600-1829046600@laborers309.org
SUMMARY:Retirees Meeting
DESCRIPTION:
URL:https://laborers309.org/event/retirees-meeting/2027-12-17/
LOCATION:Laborers 309 Union Hall\, 2835 7th Ave.\, Rock Island\, IL\, 61201\, United States
END:VEVENT
BEGIN:VEVENT
DTSTART;VALUE=DATE:20271225
DTEND;VALUE=DATE:20271226
DTSTAMP:20260425T102215
CREATED:20251124T222017Z
LAST-MODIFIED:20251124T222128Z
UID:10000200-1829692800-1829779199@laborers309.org
SUMMARY:Christmas
DESCRIPTION:
URL:https://laborers309.org/event/christmas/2027-12-25/
LOCATION:IL
END:VEVENT
BEGIN:VEVENT
DTSTART;VALUE=DATE:20280101
DTEND;VALUE=DATE:20280102
DTSTAMP:20260425T102215
CREATED:20251124T222102Z
LAST-MODIFIED:20251124T222102Z
UID:10000205-1830297600-1830383999@laborers309.org
SUMMARY:New Year's Day
DESCRIPTION:
URL:https://laborers309.org/event/new-years-day/2028-01-01/
LOCATION:IL
END:VEVENT
BEGIN:VEVENT
DTSTART;TZID=America/Chicago:20280111T190000
DTEND;TZID=America/Chicago:20280111T200000
DTSTAMP:20260425T102215
CREATED:20250825T214202Z
LAST-MODIFIED:20251203T153541Z
UID:10000096-1831230000-1831233600@laborers309.org
SUMMARY:Laborers 309 Monthly Meeting
DESCRIPTION:
URL:https://laborers309.org/event/laborers-309-monthly-meeting/2028-01-11/
LOCATION:Laborers 309 Union Hall\, 2835 7th Ave.\, Rock Island\, IL\, 61201\, United States
ATTACH;FMTTYPE=image/png:https://laborers309.org/wp-content/uploads/2025/08/309-Hammers.png
END:VEVENT
BEGIN:VEVENT
DTSTART;TZID=America/Chicago:20280121T100000
DTEND;TZID=America/Chicago:20280121T123000
DTSTAMP:20260425T102215
CREATED:20250825T214452Z
LAST-MODIFIED:20250911T224115Z
UID:10000156-1832061600-1832070600@laborers309.org
SUMMARY:Retirees Meeting
DESCRIPTION:
URL:https://laborers309.org/event/retirees-meeting/2028-01-21/
LOCATION:Laborers 309 Union Hall\, 2835 7th Ave.\, Rock Island\, IL\, 61201\, United States
END:VEVENT
BEGIN:VEVENT
DTSTART;TZID=America/Chicago:20280208T190000
DTEND;TZID=America/Chicago:20280208T200000
DTSTAMP:20260425T102215
CREATED:20250825T214202Z
LAST-MODIFIED:20251203T153541Z
UID:10000097-1833649200-1833652800@laborers309.org
SUMMARY:Laborers 309 Monthly Meeting
DESCRIPTION:
URL:https://laborers309.org/event/laborers-309-monthly-meeting/2028-02-08/
LOCATION:Laborers 309 Union Hall\, 2835 7th Ave.\, Rock Island\, IL\, 61201\, United States
ATTACH;FMTTYPE=image/png:https://laborers309.org/wp-content/uploads/2025/08/309-Hammers.png
END:VEVENT
BEGIN:VEVENT
DTSTART;TZID=America/Chicago:20280218T100000
DTEND;TZID=America/Chicago:20280218T123000
DTSTAMP:20260425T102215
CREATED:20250825T214452Z
LAST-MODIFIED:20250911T224115Z
UID:10000157-1834480800-1834489800@laborers309.org
SUMMARY:Retirees Meeting
DESCRIPTION:
URL:https://laborers309.org/event/retirees-meeting/2028-02-18/
LOCATION:Laborers 309 Union Hall\, 2835 7th Ave.\, Rock Island\, IL\, 61201\, United States
END:VEVENT
BEGIN:VEVENT
DTSTART;TZID=America/Chicago:20280314T190000
DTEND;TZID=America/Chicago:20280314T200000
DTSTAMP:20260425T102215
CREATED:20250825T214202Z
LAST-MODIFIED:20251203T153541Z
UID:10000098-1836673200-1836676800@laborers309.org
SUMMARY:Laborers 309 Monthly Meeting
DESCRIPTION:
URL:https://laborers309.org/event/laborers-309-monthly-meeting/2028-03-14/
LOCATION:Laborers 309 Union Hall\, 2835 7th Ave.\, Rock Island\, IL\, 61201\, United States
ATTACH;FMTTYPE=image/png:https://laborers309.org/wp-content/uploads/2025/08/309-Hammers.png
END:VEVENT
BEGIN:VEVENT
DTSTART;TZID=America/Chicago:20280317T100000
DTEND;TZID=America/Chicago:20280317T123000
DTSTAMP:20260425T102215
CREATED:20250825T214452Z
LAST-MODIFIED:20250911T224115Z
UID:10000158-1836900000-1836909000@laborers309.org
SUMMARY:Retirees Meeting
DESCRIPTION:
URL:https://laborers309.org/event/retirees-meeting/2028-03-17/
LOCATION:Laborers 309 Union Hall\, 2835 7th Ave.\, Rock Island\, IL\, 61201\, United States
END:VEVENT
BEGIN:VEVENT
DTSTART;TZID=America/Chicago:20280411T190000
DTEND;TZID=America/Chicago:20280411T200000
DTSTAMP:20260425T102215
CREATED:20250825T214202Z
LAST-MODIFIED:20251203T153541Z
UID:10000099-1839092400-1839096000@laborers309.org
SUMMARY:Laborers 309 Monthly Meeting
DESCRIPTION:
URL:https://laborers309.org/event/laborers-309-monthly-meeting/2028-04-11/
LOCATION:Laborers 309 Union Hall\, 2835 7th Ave.\, Rock Island\, IL\, 61201\, United States
ATTACH;FMTTYPE=image/png:https://laborers309.org/wp-content/uploads/2025/08/309-Hammers.png
END:VEVENT
BEGIN:VEVENT
DTSTART;TZID=America/Chicago:20280421T100000
DTEND;TZID=America/Chicago:20280421T123000
DTSTAMP:20260425T102215
CREATED:20250825T214452Z
LAST-MODIFIED:20250911T224115Z
UID:10000159-1839924000-1839933000@laborers309.org
SUMMARY:Retirees Meeting
DESCRIPTION:
URL:https://laborers309.org/event/retirees-meeting/2028-04-21/
LOCATION:Laborers 309 Union Hall\, 2835 7th Ave.\, Rock Island\, IL\, 61201\, United States
END:VEVENT
BEGIN:VEVENT
DTSTART;TZID=America/Chicago:20280509T190000
DTEND;TZID=America/Chicago:20280509T200000
DTSTAMP:20260425T102215
CREATED:20250825T214202Z
LAST-MODIFIED:20251203T153541Z
UID:10000100-1841511600-1841515200@laborers309.org
SUMMARY:Laborers 309 Monthly Meeting
DESCRIPTION:
URL:https://laborers309.org/event/laborers-309-monthly-meeting/2028-05-09/
LOCATION:Laborers 309 Union Hall\, 2835 7th Ave.\, Rock Island\, IL\, 61201\, United States
ATTACH;FMTTYPE=image/png:https://laborers309.org/wp-content/uploads/2025/08/309-Hammers.png
END:VEVENT
BEGIN:VEVENT
DTSTART;TZID=America/Chicago:20280519T100000
DTEND;TZID=America/Chicago:20280519T123000
DTSTAMP:20260425T102215
CREATED:20250825T214452Z
LAST-MODIFIED:20250911T224115Z
UID:10000160-1842343200-1842352200@laborers309.org
SUMMARY:Retirees Meeting
DESCRIPTION:
URL:https://laborers309.org/event/retirees-meeting/2028-05-19/
LOCATION:Laborers 309 Union Hall\, 2835 7th Ave.\, Rock Island\, IL\, 61201\, United States
END:VEVENT
BEGIN:VEVENT
DTSTART;VALUE=DATE:20280529
DTEND;VALUE=DATE:20280530
DTSTAMP:20260425T102215
CREATED:20251124T222245Z
LAST-MODIFIED:20251124T222245Z
UID:10000215-1843171200-1843257599@laborers309.org
SUMMARY:Memorial Day
DESCRIPTION:
URL:https://laborers309.org/event/memorial-day/2028-05-29/
LOCATION:IL
END:VEVENT
BEGIN:VEVENT
DTSTART;TZID=America/Chicago:20280613T190000
DTEND;TZID=America/Chicago:20280613T200000
DTSTAMP:20260425T102215
CREATED:20250825T214202Z
LAST-MODIFIED:20251203T153541Z
UID:10000101-1844535600-1844539200@laborers309.org
SUMMARY:Laborers 309 Monthly Meeting
DESCRIPTION:
URL:https://laborers309.org/event/laborers-309-monthly-meeting/2028-06-13/
LOCATION:Laborers 309 Union Hall\, 2835 7th Ave.\, Rock Island\, IL\, 61201\, United States
ATTACH;FMTTYPE=image/png:https://laborers309.org/wp-content/uploads/2025/08/309-Hammers.png
END:VEVENT
BEGIN:VEVENT
DTSTART;TZID=America/Chicago:20280616T100000
DTEND;TZID=America/Chicago:20280616T123000
DTSTAMP:20260425T102215
CREATED:20250825T214452Z
LAST-MODIFIED:20250911T224115Z
UID:10000161-1844762400-1844771400@laborers309.org
SUMMARY:Retirees Meeting
DESCRIPTION:
URL:https://laborers309.org/event/retirees-meeting/2028-06-16/
LOCATION:Laborers 309 Union Hall\, 2835 7th Ave.\, Rock Island\, IL\, 61201\, United States
END:VEVENT
BEGIN:VEVENT
DTSTART;VALUE=DATE:20280704
DTEND;VALUE=DATE:20280705
DTSTAMP:20260425T102215
CREATED:20251124T222203Z
LAST-MODIFIED:20251124T222203Z
UID:10000210-1846281600-1846367999@laborers309.org
SUMMARY:Independence Day
DESCRIPTION:
URL:https://laborers309.org/event/independence-day/2028-07-04/
LOCATION:IL
END:VEVENT
BEGIN:VEVENT
DTSTART;TZID=America/Chicago:20280711T190000
DTEND;TZID=America/Chicago:20280711T200000
DTSTAMP:20260425T102215
CREATED:20250825T214202Z
LAST-MODIFIED:20251203T153541Z
UID:10000102-1846954800-1846958400@laborers309.org
SUMMARY:Laborers 309 Monthly Meeting
DESCRIPTION:
URL:https://laborers309.org/event/laborers-309-monthly-meeting/2028-07-11/
LOCATION:Laborers 309 Union Hall\, 2835 7th Ave.\, Rock Island\, IL\, 61201\, United States
ATTACH;FMTTYPE=image/png:https://laborers309.org/wp-content/uploads/2025/08/309-Hammers.png
END:VEVENT
BEGIN:VEVENT
DTSTART;TZID=America/Chicago:20280721T100000
DTEND;TZID=America/Chicago:20280721T123000
DTSTAMP:20260425T102215
CREATED:20250825T214452Z
LAST-MODIFIED:20250911T224115Z
UID:10000162-1847786400-1847795400@laborers309.org
SUMMARY:Retirees Meeting
DESCRIPTION:
URL:https://laborers309.org/event/retirees-meeting/2028-07-21/
LOCATION:Laborers 309 Union Hall\, 2835 7th Ave.\, Rock Island\, IL\, 61201\, United States
END:VEVENT
BEGIN:VEVENT
DTSTART;TZID=America/Chicago:20280808T190000
DTEND;TZID=America/Chicago:20280808T200000
DTSTAMP:20260425T102215
CREATED:20250825T214202Z
LAST-MODIFIED:20251203T153541Z
UID:10000103-1849374000-1849377600@laborers309.org
SUMMARY:Laborers 309 Monthly Meeting
DESCRIPTION:
URL:https://laborers309.org/event/laborers-309-monthly-meeting/2028-08-08/
LOCATION:Laborers 309 Union Hall\, 2835 7th Ave.\, Rock Island\, IL\, 61201\, United States
ATTACH;FMTTYPE=image/png:https://laborers309.org/wp-content/uploads/2025/08/309-Hammers.png
END:VEVENT
BEGIN:VEVENT
DTSTART;TZID=America/Chicago:20280818T100000
DTEND;TZID=America/Chicago:20280818T123000
DTSTAMP:20260425T102215
CREATED:20250825T214452Z
LAST-MODIFIED:20250911T224115Z
UID:10000163-1850205600-1850214600@laborers309.org
SUMMARY:Retirees Meeting
DESCRIPTION:
URL:https://laborers309.org/event/retirees-meeting/2028-08-18/
LOCATION:Laborers 309 Union Hall\, 2835 7th Ave.\, Rock Island\, IL\, 61201\, United States
END:VEVENT
BEGIN:VEVENT
DTSTART;VALUE=DATE:20280904
DTEND;VALUE=DATE:20280905
DTSTAMP:20260425T102215
CREATED:20250821T165359Z
LAST-MODIFIED:20250826T131142Z
UID:10000008-1851638400-1851724799@laborers309.org
SUMMARY:Labor Day
DESCRIPTION:
URL:https://laborers309.org/event/labor-day/2028-09-04/
LOCATION:IL
END:VEVENT
BEGIN:VEVENT
DTSTART;TZID=America/Chicago:20280912T190000
DTEND;TZID=America/Chicago:20280912T200000
DTSTAMP:20260425T102215
CREATED:20250825T214202Z
LAST-MODIFIED:20251203T153541Z
UID:10000104-1852398000-1852401600@laborers309.org
SUMMARY:Laborers 309 Monthly Meeting
DESCRIPTION:
URL:https://laborers309.org/event/laborers-309-monthly-meeting/2028-09-12/
LOCATION:Laborers 309 Union Hall\, 2835 7th Ave.\, Rock Island\, IL\, 61201\, United States
ATTACH;FMTTYPE=image/png:https://laborers309.org/wp-content/uploads/2025/08/309-Hammers.png
END:VEVENT
BEGIN:VEVENT
DTSTART;TZID=America/Chicago:20280915T100000
DTEND;TZID=America/Chicago:20280915T123000
DTSTAMP:20260425T102215
CREATED:20250825T214452Z
LAST-MODIFIED:20250911T224115Z
UID:10000164-1852624800-1852633800@laborers309.org
SUMMARY:Retirees Meeting
DESCRIPTION:
URL:https://laborers309.org/event/retirees-meeting/2028-09-15/
LOCATION:Laborers 309 Union Hall\, 2835 7th Ave.\, Rock Island\, IL\, 61201\, United States
END:VEVENT
BEGIN:VEVENT
DTSTART;TZID=America/Chicago:20281010T190000
DTEND;TZID=America/Chicago:20281010T200000
DTSTAMP:20260425T102215
CREATED:20250825T214202Z
LAST-MODIFIED:20251203T153541Z
UID:10000105-1854817200-1854820800@laborers309.org
SUMMARY:Laborers 309 Monthly Meeting
DESCRIPTION:
URL:https://laborers309.org/event/laborers-309-monthly-meeting/2028-10-10/
LOCATION:Laborers 309 Union Hall\, 2835 7th Ave.\, Rock Island\, IL\, 61201\, United States
ATTACH;FMTTYPE=image/png:https://laborers309.org/wp-content/uploads/2025/08/309-Hammers.png
END:VEVENT
END:VCALENDAR