BEGIN:VCALENDAR
VERSION:2.0
PRODID:-//Laborers Local 309 - ECPv6.15.20//NONSGML v1.0//EN
CALSCALE:GREGORIAN
METHOD:PUBLISH
X-WR-CALNAME:Laborers Local 309
X-ORIGINAL-URL:https://laborers309.org
X-WR-CALDESC:Events for Laborers Local 309
REFRESH-INTERVAL;VALUE=DURATION:PT1H
X-Robots-Tag:noindex
X-PUBLISHED-TTL:PT1H
BEGIN:VTIMEZONE
TZID:America/Chicago
BEGIN:DAYLIGHT
TZOFFSETFROM:-0600
TZOFFSETTO:-0500
TZNAME:CDT
DTSTART:20240310T080000
END:DAYLIGHT
BEGIN:STANDARD
TZOFFSETFROM:-0500
TZOFFSETTO:-0600
TZNAME:CST
DTSTART:20241103T070000
END:STANDARD
BEGIN:DAYLIGHT
TZOFFSETFROM:-0600
TZOFFSETTO:-0500
TZNAME:CDT
DTSTART:20250309T080000
END:DAYLIGHT
BEGIN:STANDARD
TZOFFSETFROM:-0500
TZOFFSETTO:-0600
TZNAME:CST
DTSTART:20251102T070000
END:STANDARD
BEGIN:DAYLIGHT
TZOFFSETFROM:-0600
TZOFFSETTO:-0500
TZNAME:CDT
DTSTART:20260308T080000
END:DAYLIGHT
BEGIN:STANDARD
TZOFFSETFROM:-0500
TZOFFSETTO:-0600
TZNAME:CST
DTSTART:20261101T070000
END:STANDARD
END:VTIMEZONE
BEGIN:VEVENT
DTSTART;TZID=America/Chicago:20251017T100000
DTEND;TZID=America/Chicago:20251017T123000
DTSTAMP:20260423T184940
CREATED:20250825T214452Z
LAST-MODIFIED:20250911T224115Z
UID:10000129-1760695200-1760704200@laborers309.org
SUMMARY:Retirees Meeting
DESCRIPTION:
URL:https://laborers309.org/event/retirees-meeting/2025-10-17/
LOCATION:Laborers 309 Union Hall\, 2835 7th Ave.\, Rock Island\, IL\, 61201\, United States
END:VEVENT
BEGIN:VEVENT
DTSTART;TZID=America/Chicago:20251014T190000
DTEND;TZID=America/Chicago:20251014T200000
DTSTAMP:20260423T184940
CREATED:20250825T214202Z
LAST-MODIFIED:20251203T153541Z
UID:10000069-1760468400-1760472000@laborers309.org
SUMMARY:Laborers 309 Monthly Meeting
DESCRIPTION:
URL:https://laborers309.org/event/laborers-309-monthly-meeting/2025-10-14/
LOCATION:Laborers 309 Union Hall\, 2835 7th Ave.\, Rock Island\, IL\, 61201\, United States
ATTACH;FMTTYPE=image/png:https://laborers309.org/wp-content/uploads/2025/08/309-Hammers.png
END:VEVENT
BEGIN:VEVENT
DTSTART;VALUE=DATE:20250901
DTEND;VALUE=DATE:20250902
DTSTAMP:20260423T184940
CREATED:20250821T165359Z
LAST-MODIFIED:20250826T131142Z
UID:10000003-1756684800-1756771199@laborers309.org
SUMMARY:Labor Day
DESCRIPTION:
URL:https://laborers309.org/event/labor-day/2025-09-01/
END:VEVENT
END:VCALENDAR