BEGIN:VCALENDAR
VERSION:2.0
PRODID:-//Laborers Local 309 - ECPv6.15.20//NONSGML v1.0//EN
CALSCALE:GREGORIAN
METHOD:PUBLISH
X-WR-CALNAME:Laborers Local 309
X-ORIGINAL-URL:https://laborers309.org
X-WR-CALDESC:Events for Laborers Local 309
REFRESH-INTERVAL;VALUE=DURATION:PT1H
X-Robots-Tag:noindex
X-PUBLISHED-TTL:PT1H
BEGIN:VTIMEZONE
TZID:America/Chicago
BEGIN:DAYLIGHT
TZOFFSETFROM:-0600
TZOFFSETTO:-0500
TZNAME:CDT
DTSTART:20250309T080000
END:DAYLIGHT
BEGIN:STANDARD
TZOFFSETFROM:-0500
TZOFFSETTO:-0600
TZNAME:CST
DTSTART:20251102T070000
END:STANDARD
BEGIN:DAYLIGHT
TZOFFSETFROM:-0600
TZOFFSETTO:-0500
TZNAME:CDT
DTSTART:20260308T080000
END:DAYLIGHT
BEGIN:STANDARD
TZOFFSETFROM:-0500
TZOFFSETTO:-0600
TZNAME:CST
DTSTART:20261101T070000
END:STANDARD
BEGIN:DAYLIGHT
TZOFFSETFROM:-0600
TZOFFSETTO:-0500
TZNAME:CDT
DTSTART:20270314T080000
END:DAYLIGHT
BEGIN:STANDARD
TZOFFSETFROM:-0500
TZOFFSETTO:-0600
TZNAME:CST
DTSTART:20271107T070000
END:STANDARD
BEGIN:DAYLIGHT
TZOFFSETFROM:-0600
TZOFFSETTO:-0500
TZNAME:CDT
DTSTART:20280312T080000
END:DAYLIGHT
BEGIN:STANDARD
TZOFFSETFROM:-0500
TZOFFSETTO:-0600
TZNAME:CST
DTSTART:20281105T070000
END:STANDARD
END:VTIMEZONE
BEGIN:VEVENT
DTSTART;TZID=America/Chicago:20260908T190000
DTEND;TZID=America/Chicago:20260908T200000
DTSTAMP:20260423T151649
CREATED:20250825T214202Z
LAST-MODIFIED:20251203T153541Z
UID:10000080-1788894000-1788897600@laborers309.org
SUMMARY:Laborers 309 Monthly Meeting
DESCRIPTION:
URL:https://laborers309.org/event/laborers-309-monthly-meeting/2026-09-08/
LOCATION:Laborers 309 Union Hall\, 2835 7th Ave.\, Rock Island\, IL\, 61201\, United States
ATTACH;FMTTYPE=image/png:https://laborers309.org/wp-content/uploads/2025/08/309-Hammers.png
END:VEVENT
BEGIN:VEVENT
DTSTART;TZID=America/Chicago:20260918T100000
DTEND;TZID=America/Chicago:20260918T123000
DTSTAMP:20260423T151649
CREATED:20250825T214452Z
LAST-MODIFIED:20250911T224115Z
UID:10000140-1789725600-1789734600@laborers309.org
SUMMARY:Retirees Meeting
DESCRIPTION:
URL:https://laborers309.org/event/retirees-meeting/2026-09-18/
LOCATION:Laborers 309 Union Hall\, 2835 7th Ave.\, Rock Island\, IL\, 61201\, United States
END:VEVENT
BEGIN:VEVENT
DTSTART;TZID=America/Chicago:20261013T190000
DTEND;TZID=America/Chicago:20261013T200000
DTSTAMP:20260423T151649
CREATED:20250825T214202Z
LAST-MODIFIED:20251203T153541Z
UID:10000081-1791918000-1791921600@laborers309.org
SUMMARY:Laborers 309 Monthly Meeting
DESCRIPTION:
URL:https://laborers309.org/event/laborers-309-monthly-meeting/2026-10-13/
LOCATION:Laborers 309 Union Hall\, 2835 7th Ave.\, Rock Island\, IL\, 61201\, United States
ATTACH;FMTTYPE=image/png:https://laborers309.org/wp-content/uploads/2025/08/309-Hammers.png
END:VEVENT
BEGIN:VEVENT
DTSTART;TZID=America/Chicago:20261016T100000
DTEND;TZID=America/Chicago:20261016T123000
DTSTAMP:20260423T151649
CREATED:20250825T214452Z
LAST-MODIFIED:20250911T224115Z
UID:10000141-1792144800-1792153800@laborers309.org
SUMMARY:Retirees Meeting
DESCRIPTION:
URL:https://laborers309.org/event/retirees-meeting/2026-10-16/
LOCATION:Laborers 309 Union Hall\, 2835 7th Ave.\, Rock Island\, IL\, 61201\, United States
END:VEVENT
BEGIN:VEVENT
DTSTART;TZID=America/Chicago:20261110T190000
DTEND;TZID=America/Chicago:20261110T200000
DTSTAMP:20260423T151649
CREATED:20250825T214202Z
LAST-MODIFIED:20251203T153541Z
UID:10000082-1794337200-1794340800@laborers309.org
SUMMARY:Laborers 309 Monthly Meeting
DESCRIPTION:
URL:https://laborers309.org/event/laborers-309-monthly-meeting/2026-11-10/
LOCATION:Laborers 309 Union Hall\, 2835 7th Ave.\, Rock Island\, IL\, 61201\, United States
ATTACH;FMTTYPE=image/png:https://laborers309.org/wp-content/uploads/2025/08/309-Hammers.png
END:VEVENT
BEGIN:VEVENT
DTSTART;VALUE=DATE:20261111
DTEND;VALUE=DATE:20261112
DTSTAMP:20260423T151649
CREATED:20250911T230021Z
LAST-MODIFIED:20250911T230021Z
UID:10000194-1794355200-1794441599@laborers309.org
SUMMARY:Veterans Day
DESCRIPTION:
URL:https://laborers309.org/event/veterans-day/2026-11-11/
END:VEVENT
BEGIN:VEVENT
DTSTART;TZID=America/Chicago:20261120T100000
DTEND;TZID=America/Chicago:20261120T123000
DTSTAMP:20260423T151649
CREATED:20250825T214452Z
LAST-MODIFIED:20250911T224115Z
UID:10000142-1795168800-1795177800@laborers309.org
SUMMARY:Retirees Meeting
DESCRIPTION:
URL:https://laborers309.org/event/retirees-meeting/2026-11-20/
LOCATION:Laborers 309 Union Hall\, 2835 7th Ave.\, Rock Island\, IL\, 61201\, United States
END:VEVENT
BEGIN:VEVENT
DTSTART;VALUE=DATE:20261126
DTEND;VALUE=DATE:20261127
DTSTAMP:20260423T151649
CREATED:20250911T224151Z
LAST-MODIFIED:20250911T224151Z
UID:10000189-1795651200-1795737599@laborers309.org
SUMMARY:Thanksgiving
DESCRIPTION:Hall is closed.
URL:https://laborers309.org/event/thanksgiving/2026-11-26/
END:VEVENT
BEGIN:VEVENT
DTSTART;TZID=America/Chicago:20261208T190000
DTEND;TZID=America/Chicago:20261208T200000
DTSTAMP:20260423T151649
CREATED:20250825T214202Z
LAST-MODIFIED:20251203T153541Z
UID:10000083-1796756400-1796760000@laborers309.org
SUMMARY:Laborers 309 Monthly Meeting
DESCRIPTION:
URL:https://laborers309.org/event/laborers-309-monthly-meeting/2026-12-08/
LOCATION:Laborers 309 Union Hall\, 2835 7th Ave.\, Rock Island\, IL\, 61201\, United States
ATTACH;FMTTYPE=image/png:https://laborers309.org/wp-content/uploads/2025/08/309-Hammers.png
END:VEVENT
BEGIN:VEVENT
DTSTART;TZID=America/Chicago:20261218T100000
DTEND;TZID=America/Chicago:20261218T123000
DTSTAMP:20260423T151649
CREATED:20250825T214452Z
LAST-MODIFIED:20250911T224115Z
UID:10000143-1797588000-1797597000@laborers309.org
SUMMARY:Retirees Meeting
DESCRIPTION:
URL:https://laborers309.org/event/retirees-meeting/2026-12-18/
LOCATION:Laborers 309 Union Hall\, 2835 7th Ave.\, Rock Island\, IL\, 61201\, United States
END:VEVENT
BEGIN:VEVENT
DTSTART;VALUE=DATE:20261225
DTEND;VALUE=DATE:20261226
DTSTAMP:20260423T151649
CREATED:20251124T222017Z
LAST-MODIFIED:20251124T222128Z
UID:10000199-1798156800-1798243199@laborers309.org
SUMMARY:Christmas
DESCRIPTION:
URL:https://laborers309.org/event/christmas/2026-12-25/
END:VEVENT
BEGIN:VEVENT
DTSTART;VALUE=DATE:20270101
DTEND;VALUE=DATE:20270102
DTSTAMP:20260423T151649
CREATED:20251124T222102Z
LAST-MODIFIED:20251124T222102Z
UID:10000204-1798761600-1798847999@laborers309.org
SUMMARY:New Year's Day
DESCRIPTION:
URL:https://laborers309.org/event/new-years-day/2027-01-01/
END:VEVENT
BEGIN:VEVENT
DTSTART;TZID=America/Chicago:20270112T190000
DTEND;TZID=America/Chicago:20270112T200000
DTSTAMP:20260423T151649
CREATED:20250825T214202Z
LAST-MODIFIED:20251203T153541Z
UID:10000084-1799780400-1799784000@laborers309.org
SUMMARY:Laborers 309 Monthly Meeting
DESCRIPTION:
URL:https://laborers309.org/event/laborers-309-monthly-meeting/2027-01-12/
LOCATION:Laborers 309 Union Hall\, 2835 7th Ave.\, Rock Island\, IL\, 61201\, United States
ATTACH;FMTTYPE=image/png:https://laborers309.org/wp-content/uploads/2025/08/309-Hammers.png
END:VEVENT
BEGIN:VEVENT
DTSTART;TZID=America/Chicago:20270115T100000
DTEND;TZID=America/Chicago:20270115T123000
DTSTAMP:20260423T151649
CREATED:20250825T214452Z
LAST-MODIFIED:20250911T224115Z
UID:10000144-1800007200-1800016200@laborers309.org
SUMMARY:Retirees Meeting
DESCRIPTION:
URL:https://laborers309.org/event/retirees-meeting/2027-01-15/
LOCATION:Laborers 309 Union Hall\, 2835 7th Ave.\, Rock Island\, IL\, 61201\, United States
END:VEVENT
BEGIN:VEVENT
DTSTART;TZID=America/Chicago:20270209T190000
DTEND;TZID=America/Chicago:20270209T200000
DTSTAMP:20260423T151649
CREATED:20250825T214202Z
LAST-MODIFIED:20251203T153541Z
UID:10000085-1802199600-1802203200@laborers309.org
SUMMARY:Laborers 309 Monthly Meeting
DESCRIPTION:
URL:https://laborers309.org/event/laborers-309-monthly-meeting/2027-02-09/
LOCATION:Laborers 309 Union Hall\, 2835 7th Ave.\, Rock Island\, IL\, 61201\, United States
ATTACH;FMTTYPE=image/png:https://laborers309.org/wp-content/uploads/2025/08/309-Hammers.png
END:VEVENT
BEGIN:VEVENT
DTSTART;TZID=America/Chicago:20270219T100000
DTEND;TZID=America/Chicago:20270219T123000
DTSTAMP:20260423T151649
CREATED:20250825T214452Z
LAST-MODIFIED:20250911T224115Z
UID:10000145-1803031200-1803040200@laborers309.org
SUMMARY:Retirees Meeting
DESCRIPTION:
URL:https://laborers309.org/event/retirees-meeting/2027-02-19/
LOCATION:Laborers 309 Union Hall\, 2835 7th Ave.\, Rock Island\, IL\, 61201\, United States
END:VEVENT
BEGIN:VEVENT
DTSTART;TZID=America/Chicago:20270309T190000
DTEND;TZID=America/Chicago:20270309T200000
DTSTAMP:20260423T151649
CREATED:20250825T214202Z
LAST-MODIFIED:20251203T153541Z
UID:10000086-1804618800-1804622400@laborers309.org
SUMMARY:Laborers 309 Monthly Meeting
DESCRIPTION:
URL:https://laborers309.org/event/laborers-309-monthly-meeting/2027-03-09/
LOCATION:Laborers 309 Union Hall\, 2835 7th Ave.\, Rock Island\, IL\, 61201\, United States
ATTACH;FMTTYPE=image/png:https://laborers309.org/wp-content/uploads/2025/08/309-Hammers.png
END:VEVENT
BEGIN:VEVENT
DTSTART;TZID=America/Chicago:20270319T100000
DTEND;TZID=America/Chicago:20270319T123000
DTSTAMP:20260423T151649
CREATED:20250825T214452Z
LAST-MODIFIED:20250911T224115Z
UID:10000146-1805450400-1805459400@laborers309.org
SUMMARY:Retirees Meeting
DESCRIPTION:
URL:https://laborers309.org/event/retirees-meeting/2027-03-19/
LOCATION:Laborers 309 Union Hall\, 2835 7th Ave.\, Rock Island\, IL\, 61201\, United States
END:VEVENT
BEGIN:VEVENT
DTSTART;TZID=America/Chicago:20270413T190000
DTEND;TZID=America/Chicago:20270413T200000
DTSTAMP:20260423T151649
CREATED:20250825T214202Z
LAST-MODIFIED:20251203T153541Z
UID:10000087-1807642800-1807646400@laborers309.org
SUMMARY:Laborers 309 Monthly Meeting
DESCRIPTION:
URL:https://laborers309.org/event/laborers-309-monthly-meeting/2027-04-13/
LOCATION:Laborers 309 Union Hall\, 2835 7th Ave.\, Rock Island\, IL\, 61201\, United States
ATTACH;FMTTYPE=image/png:https://laborers309.org/wp-content/uploads/2025/08/309-Hammers.png
END:VEVENT
BEGIN:VEVENT
DTSTART;TZID=America/Chicago:20270416T100000
DTEND;TZID=America/Chicago:20270416T123000
DTSTAMP:20260423T151649
CREATED:20250825T214452Z
LAST-MODIFIED:20250911T224115Z
UID:10000147-1807869600-1807878600@laborers309.org
SUMMARY:Retirees Meeting
DESCRIPTION:
URL:https://laborers309.org/event/retirees-meeting/2027-04-16/
LOCATION:Laborers 309 Union Hall\, 2835 7th Ave.\, Rock Island\, IL\, 61201\, United States
END:VEVENT
BEGIN:VEVENT
DTSTART;TZID=America/Chicago:20270511T190000
DTEND;TZID=America/Chicago:20270511T200000
DTSTAMP:20260423T151649
CREATED:20250825T214202Z
LAST-MODIFIED:20251203T153541Z
UID:10000088-1810062000-1810065600@laborers309.org
SUMMARY:Laborers 309 Monthly Meeting
DESCRIPTION:
URL:https://laborers309.org/event/laborers-309-monthly-meeting/2027-05-11/
LOCATION:Laborers 309 Union Hall\, 2835 7th Ave.\, Rock Island\, IL\, 61201\, United States
ATTACH;FMTTYPE=image/png:https://laborers309.org/wp-content/uploads/2025/08/309-Hammers.png
END:VEVENT
BEGIN:VEVENT
DTSTART;TZID=America/Chicago:20270521T100000
DTEND;TZID=America/Chicago:20270521T123000
DTSTAMP:20260423T151649
CREATED:20250825T214452Z
LAST-MODIFIED:20250911T224115Z
UID:10000148-1810893600-1810902600@laborers309.org
SUMMARY:Retirees Meeting
DESCRIPTION:
URL:https://laborers309.org/event/retirees-meeting/2027-05-21/
LOCATION:Laborers 309 Union Hall\, 2835 7th Ave.\, Rock Island\, IL\, 61201\, United States
END:VEVENT
BEGIN:VEVENT
DTSTART;VALUE=DATE:20270531
DTEND;VALUE=DATE:20270601
DTSTAMP:20260423T151649
CREATED:20251124T222245Z
LAST-MODIFIED:20251124T222245Z
UID:10000214-1811721600-1811807999@laborers309.org
SUMMARY:Memorial Day
DESCRIPTION:
URL:https://laborers309.org/event/memorial-day/2027-05-31/
END:VEVENT
BEGIN:VEVENT
DTSTART;TZID=America/Chicago:20270608T190000
DTEND;TZID=America/Chicago:20270608T200000
DTSTAMP:20260423T151649
CREATED:20250825T214202Z
LAST-MODIFIED:20251203T153541Z
UID:10000089-1812481200-1812484800@laborers309.org
SUMMARY:Laborers 309 Monthly Meeting
DESCRIPTION:
URL:https://laborers309.org/event/laborers-309-monthly-meeting/2027-06-08/
LOCATION:Laborers 309 Union Hall\, 2835 7th Ave.\, Rock Island\, IL\, 61201\, United States
ATTACH;FMTTYPE=image/png:https://laborers309.org/wp-content/uploads/2025/08/309-Hammers.png
END:VEVENT
BEGIN:VEVENT
DTSTART;TZID=America/Chicago:20270618T100000
DTEND;TZID=America/Chicago:20270618T123000
DTSTAMP:20260423T151649
CREATED:20250825T214452Z
LAST-MODIFIED:20250911T224115Z
UID:10000149-1813312800-1813321800@laborers309.org
SUMMARY:Retirees Meeting
DESCRIPTION:
URL:https://laborers309.org/event/retirees-meeting/2027-06-18/
LOCATION:Laborers 309 Union Hall\, 2835 7th Ave.\, Rock Island\, IL\, 61201\, United States
END:VEVENT
BEGIN:VEVENT
DTSTART;VALUE=DATE:20270704
DTEND;VALUE=DATE:20270705
DTSTAMP:20260423T151649
CREATED:20251124T222203Z
LAST-MODIFIED:20251124T222203Z
UID:10000209-1814659200-1814745599@laborers309.org
SUMMARY:Independence Day
DESCRIPTION:
URL:https://laborers309.org/event/independence-day/2027-07-04/
END:VEVENT
BEGIN:VEVENT
DTSTART;TZID=America/Chicago:20270713T190000
DTEND;TZID=America/Chicago:20270713T200000
DTSTAMP:20260423T151649
CREATED:20250825T214202Z
LAST-MODIFIED:20251203T153541Z
UID:10000090-1815505200-1815508800@laborers309.org
SUMMARY:Laborers 309 Monthly Meeting
DESCRIPTION:
URL:https://laborers309.org/event/laborers-309-monthly-meeting/2027-07-13/
LOCATION:Laborers 309 Union Hall\, 2835 7th Ave.\, Rock Island\, IL\, 61201\, United States
ATTACH;FMTTYPE=image/png:https://laborers309.org/wp-content/uploads/2025/08/309-Hammers.png
END:VEVENT
BEGIN:VEVENT
DTSTART;TZID=America/Chicago:20270716T100000
DTEND;TZID=America/Chicago:20270716T123000
DTSTAMP:20260423T151649
CREATED:20250825T214452Z
LAST-MODIFIED:20250911T224115Z
UID:10000150-1815732000-1815741000@laborers309.org
SUMMARY:Retirees Meeting
DESCRIPTION:
URL:https://laborers309.org/event/retirees-meeting/2027-07-16/
LOCATION:Laborers 309 Union Hall\, 2835 7th Ave.\, Rock Island\, IL\, 61201\, United States
END:VEVENT
BEGIN:VEVENT
DTSTART;TZID=America/Chicago:20270810T190000
DTEND;TZID=America/Chicago:20270810T200000
DTSTAMP:20260423T151649
CREATED:20250825T214202Z
LAST-MODIFIED:20251203T153541Z
UID:10000091-1817924400-1817928000@laborers309.org
SUMMARY:Laborers 309 Monthly Meeting
DESCRIPTION:
URL:https://laborers309.org/event/laborers-309-monthly-meeting/2027-08-10/
LOCATION:Laborers 309 Union Hall\, 2835 7th Ave.\, Rock Island\, IL\, 61201\, United States
ATTACH;FMTTYPE=image/png:https://laborers309.org/wp-content/uploads/2025/08/309-Hammers.png
END:VEVENT
BEGIN:VEVENT
DTSTART;TZID=America/Chicago:20270820T100000
DTEND;TZID=America/Chicago:20270820T123000
DTSTAMP:20260423T151649
CREATED:20250825T214452Z
LAST-MODIFIED:20250911T224115Z
UID:10000151-1818756000-1818765000@laborers309.org
SUMMARY:Retirees Meeting
DESCRIPTION:
URL:https://laborers309.org/event/retirees-meeting/2027-08-20/
LOCATION:Laborers 309 Union Hall\, 2835 7th Ave.\, Rock Island\, IL\, 61201\, United States
END:VEVENT
END:VCALENDAR